BEGIN:VCALENDAR
VERSION:2.0
PRODID:-//Musikschule Bischof - ECPv6.15.3//NONSGML v1.0//EN
CALSCALE:GREGORIAN
METHOD:PUBLISH
X-ORIGINAL-URL:https://www.musikschule-bischof.de
X-WR-CALDESC:Veranstaltungen für Musikschule Bischof
REFRESH-INTERVAL;VALUE=DURATION:PT1H
X-Robots-Tag:noindex
X-PUBLISHED-TTL:PT1H
BEGIN:VTIMEZONE
TZID:Europe/Berlin
BEGIN:DAYLIGHT
TZOFFSETFROM:+0100
TZOFFSETTO:+0200
TZNAME:CEST
DTSTART:20210328T010000
END:DAYLIGHT
BEGIN:STANDARD
TZOFFSETFROM:+0200
TZOFFSETTO:+0100
TZNAME:CET
DTSTART:20211031T010000
END:STANDARD
BEGIN:DAYLIGHT
TZOFFSETFROM:+0100
TZOFFSETTO:+0200
TZNAME:CEST
DTSTART:20220327T010000
END:DAYLIGHT
BEGIN:STANDARD
TZOFFSETFROM:+0200
TZOFFSETTO:+0100
TZNAME:CET
DTSTART:20221030T010000
END:STANDARD
BEGIN:DAYLIGHT
TZOFFSETFROM:+0100
TZOFFSETTO:+0200
TZNAME:CEST
DTSTART:20230326T010000
END:DAYLIGHT
BEGIN:STANDARD
TZOFFSETFROM:+0200
TZOFFSETTO:+0100
TZNAME:CET
DTSTART:20231029T010000
END:STANDARD
BEGIN:DAYLIGHT
TZOFFSETFROM:+0100
TZOFFSETTO:+0200
TZNAME:CEST
DTSTART:20240331T010000
END:DAYLIGHT
BEGIN:STANDARD
TZOFFSETFROM:+0200
TZOFFSETTO:+0100
TZNAME:CET
DTSTART:20241027T010000
END:STANDARD
BEGIN:DAYLIGHT
TZOFFSETFROM:+0100
TZOFFSETTO:+0200
TZNAME:CEST
DTSTART:20250330T010000
END:DAYLIGHT
BEGIN:STANDARD
TZOFFSETFROM:+0200
TZOFFSETTO:+0100
TZNAME:CET
DTSTART:20251026T010000
END:STANDARD
END:VTIMEZONE
BEGIN:VEVENT
DTSTART;TZID=Europe/Berlin:20250920T100000
DTEND;TZID=Europe/Berlin:20250920T150000
DTSTAMP:20260423T103207
CREATED:20250911T214957Z
LAST-MODIFIED:20250911T215026Z
UID:1499-1758362400-1758380400@www.musikschule-bischof.de
SUMMARY:Tag der offenen Tür
DESCRIPTION:Wir öffnen unsere Türen: kostenloser Probeunterricht\, Beratung\, gemeinsames Musizieren\, viel Spaß. Bautzener Allee 83 10:00 – 15:00
URL:https://www.musikschule-bischof.de/veranstaltung/tag-der-offenen-tuer-5/
END:VEVENT
BEGIN:VEVENT
DTSTART;TZID=Europe/Berlin:20250913T164500
DTEND;TZID=Europe/Berlin:20250913T173000
DTSTAMP:20260423T103207
CREATED:20250911T220034Z
LAST-MODIFIED:20250911T220917Z
UID:1501-1757781900-1757784600@www.musikschule-bischof.de
SUMMARY:Let's Rock mit -Allee 83-
DESCRIPTION:Let‘ Rock mit -Allee 83- das neueste Bandprojekt der Musik- und Kunstschule Bischof – einfach gute Musik \n13.09.2025 16:45 bis 17:30 Bühne Lausitzhalle
URL:https://www.musikschule-bischof.de/veranstaltung/1501/
LOCATION:Bühne Lausitzplatz\, Hoyerswerda
END:VEVENT
BEGIN:VEVENT
DTSTART;TZID=Europe/Berlin:20250913T150000
DTEND;TZID=Europe/Berlin:20250913T163000
DTSTAMP:20260423T103207
CREATED:20250911T213752Z
LAST-MODIFIED:20250911T213809Z
UID:1485-1757775600-1757781000@www.musikschule-bischof.de
SUMMARY:Die kleine Malwina
DESCRIPTION:ein Familien-Musical der Brigade Feuerstein mit Texten von Gerhard Gundermann. In Zusammenarbeit der KuFa und der Musikschule Bischof. Regie: Elke Förster Musikalische Leitung: Andre Bischof.  Samstag: 13.09. 15:00 Bühne am Einsteinhaus zum Landeserntedankfest
URL:https://www.musikschule-bischof.de/veranstaltung/die-kleine-malwina/
LOCATION:Bühne Einsteinhaus\, Einsteinstraße\, Hoyerswerda
END:VEVENT
BEGIN:VEVENT
DTSTART;TZID=Europe/Berlin:20240921T100000
DTEND;TZID=Europe/Berlin:20240921T150000
DTSTAMP:20260423T103207
CREATED:20240918T215718Z
LAST-MODIFIED:20240918T215847Z
UID:1474-1726912800-1726930800@www.musikschule-bischof.de
SUMMARY:Tag der offenen Tür
DESCRIPTION:„Tag der offenen Tür“ in der Musik- und Kunstschule Bischof\,  Bautzener Alle 83 \n10:00 bis 15:00 Uhr \nzum Schnuppern\, Ausprobieren\, Beraten und Testen
URL:https://www.musikschule-bischof.de/veranstaltung/tag-der-offenen-tuer-4/
ORGANIZER;CN="Musikschule Bischof":MAILTO:info@musikschule-bischof.de
END:VEVENT
BEGIN:VEVENT
DTSTART;TZID=Europe/Berlin:20231217T160000
DTEND;TZID=Europe/Berlin:20231217T173000
DTSTAMP:20260423T103207
CREATED:20231207T153658Z
LAST-MODIFIED:20231207T153658Z
UID:1459-1702828800-1702834200@www.musikschule-bischof.de
SUMMARY:Weihnachtskonzert
DESCRIPTION:Schüler und Lehrer spielen weihnachtliche Lieder oder ihre Lieblingssongs beim Jahresabschlusskonzert in der Kufa.
URL:https://www.musikschule-bischof.de/veranstaltung/weihnachtskonzert-4/
LOCATION:Kulturfabrik Hoyerswerda e.V.\, Braugasse 1\, Hoyerswerda\, Sachsen\, 02977\, Deutschland
END:VEVENT
BEGIN:VEVENT
DTSTART;TZID=Europe/Berlin:20231202T160000
DTEND;TZID=Europe/Berlin:20231217T170000
DTSTAMP:20260423T103207
CREATED:20231207T153202Z
LAST-MODIFIED:20231207T154111Z
UID:1455-1701532800-1702832400@www.musikschule-bischof.de
SUMMARY:Weihnachtkonzert
DESCRIPTION:Schüler und Lehrer der Musik- und Kunstschule spielen weihnachtliche Lieder im Lausitzcenter.
URL:https://www.musikschule-bischof.de/veranstaltung/weihnachtkonzert/
END:VEVENT
BEGIN:VEVENT
DTSTART;TZID=Europe/Berlin:20230923T100000
DTEND;TZID=Europe/Berlin:20230923T160000
DTSTAMP:20260423T103207
CREATED:20230907T211735Z
LAST-MODIFIED:20230907T211735Z
UID:1438-1695463200-1695484800@www.musikschule-bischof.de
SUMMARY:Tag der offenen Tür
DESCRIPTION:Probeunterricht für alle Interessierten für: Drums\, Keyboard\, Klavier\, Gitarre\, E.-Gitarre\, E.-Bass\, Akkordeon\, Ukulele\, Juniormusikschule\, Frühkindliche Musikalisierung\, Gesang\, Schauspiel…
URL:https://www.musikschule-bischof.de/veranstaltung/tag-der-offenen-tuer-3/
LOCATION:Musikschule Bischof\, Bautzener Allee 32\, Hoyerserda\, Sachsen\, 02977\, Deutschland
END:VEVENT
BEGIN:VEVENT
DTSTART;TZID=Europe/Berlin:20230909T130000
DTEND;TZID=Europe/Berlin:20230909T133000
DTSTAMP:20260423T103207
CREATED:20230907T211355Z
LAST-MODIFIED:20230907T211355Z
UID:1436-1694264400-1694266200@www.musikschule-bischof.de
SUMMARY:Stadtfest
DESCRIPTION:Schülerbands der Musikschule Bischof präsentieren sich: BBB-Lessinggymnasium\, EinfachNurSchräg-Oberschule Hoyerswerda
URL:https://www.musikschule-bischof.de/veranstaltung/stadtfest/
LOCATION:Lausitzhalle Hoyerswerda\, Lausitzer Pl. 4\, Hoyerswerda\, Sachsen\, 02977\, Deutschland
END:VEVENT
BEGIN:VEVENT
DTSTART;TZID=Europe/Berlin:20230908T170000
DTEND;TZID=Europe/Berlin:20230908T173000
DTSTAMP:20260423T103207
CREATED:20230907T211153Z
LAST-MODIFIED:20230907T211153Z
UID:1434-1694192400-1694194200@www.musikschule-bischof.de
SUMMARY:Queen - Projekt
DESCRIPTION:Der Große Chor Hoyerswerda präsentiert Songs von „Queen“ zur Eröffnung des Stadtfestes Hoyerswerda -begleitet von der Band „Nachspiel“ und Riccardo Gunder.
URL:https://www.musikschule-bischof.de/veranstaltung/queen-projekt/
LOCATION:Lausitzhalle Hoyerswerda\, Lausitzer Pl. 4\, Hoyerswerda\, Sachsen\, 02977\, Deutschland
END:VEVENT
BEGIN:VEVENT
DTSTART;TZID=Europe/Berlin:20230902T190000
DTEND;TZID=Europe/Berlin:20230902T210000
DTSTAMP:20260423T103207
CREATED:20230907T210622Z
LAST-MODIFIED:20230907T210622Z
UID:1432-1693681200-1693688400@www.musikschule-bischof.de
SUMMARY:Mitsingenacht
DESCRIPTION:Kerstin Lieder und Andre Bischof gestalten die traditionelle Mitsingenacht der Lebensräume e.G. Es wird viel gesungen\, getanzt und gelacht.
URL:https://www.musikschule-bischof.de/veranstaltung/mitsingenacht-2/
END:VEVENT
BEGIN:VEVENT
DTSTART;TZID=Europe/Berlin:20230715T180000
DTEND;TZID=Europe/Berlin:20230715T233000
DTSTAMP:20260423T103207
CREATED:20230907T210218Z
LAST-MODIFIED:20230907T210218Z
UID:1430-1689444000-1689463800@www.musikschule-bischof.de
SUMMARY:Sommerkonzert in Bahlingen
DESCRIPTION:Mitwirkung beim Sommerkonzert unseres Partner-Chores in Bahlingen (Kaiserstuhl) mit Bischofs & Friends.
URL:https://www.musikschule-bischof.de/veranstaltung/sommerkonzert-in-bahlingen/
END:VEVENT
BEGIN:VEVENT
DTSTART;TZID=Europe/Berlin:20230708T100000
DTEND;TZID=Europe/Berlin:20230708T120000
DTSTAMP:20260423T103207
CREATED:20230907T205853Z
LAST-MODIFIED:20230907T205853Z
UID:1428-1688810400-1688817600@www.musikschule-bischof.de
SUMMARY:Jugendweihe in Laubusch
DESCRIPTION:Gestaltung der Jugendweihe in Laubusch mit der Band „Nachpiel“ und Jana Bischof.
URL:https://www.musikschule-bischof.de/veranstaltung/jugendweihe-in-laubusch/
END:VEVENT
BEGIN:VEVENT
DTSTART;TZID=Europe/Berlin:20230705T100000
DTEND;TZID=Europe/Berlin:20230705T120000
DTSTAMP:20260423T103207
CREATED:20230907T205704Z
LAST-MODIFIED:20230907T205704Z
UID:1426-1688551200-1688558400@www.musikschule-bischof.de
SUMMARY:Schools Out
DESCRIPTION:Mitwirkung bei Schools Out des Lessinggymnasiums mit der Schülerband „BBB“
URL:https://www.musikschule-bischof.de/veranstaltung/schools-out-3/
LOCATION:Lausitzhalle Hoyerswerda\, Lausitzer Pl. 4\, Hoyerswerda\, Sachsen\, 02977\, Deutschland
END:VEVENT
BEGIN:VEVENT
DTSTART;TZID=Europe/Berlin:20230630T170000
DTEND;TZID=Europe/Berlin:20230630T180000
DTSTAMP:20260423T103207
CREATED:20230907T204505Z
LAST-MODIFIED:20230907T204505Z
UID:1419-1688144400-1688148000@www.musikschule-bischof.de
SUMMARY:Konzert Schulerband "EinfachNurSchräg"
DESCRIPTION:Konzert der Schülerband der OS Hoyerswerda zur Zeugnisübergabe.
URL:https://www.musikschule-bischof.de/veranstaltung/konzert-schulerband-einfachnurschraeg/
LOCATION:Oberschule Hoyerswerda\, Claus-von-Stauffenberg-Straße 40\, Hoyerswerda\, Sachsen\, 02977\, Deutschland
END:VEVENT
BEGIN:VEVENT
DTSTART;TZID=Europe/Berlin:20230624T150000
DTEND;TZID=Europe/Berlin:20230624T170000
DTSTAMP:20260423T103207
CREATED:20230907T204300Z
LAST-MODIFIED:20230907T204300Z
UID:1417-1687618800-1687626000@www.musikschule-bischof.de
SUMMARY:Schülervorspiel
DESCRIPTION:Klavierschüler von Larissa Frank präsentieren ihr Können.
URL:https://www.musikschule-bischof.de/veranstaltung/schuelervorspiel/
LOCATION:Musikschule Bischof\, Bautzener Allee 32\, Hoyerserda\, Sachsen\, 02977\, Deutschland
END:VEVENT
BEGIN:VEVENT
DTSTART;TZID=Europe/Berlin:20230621T140000
DTEND;TZID=Europe/Berlin:20230621T200000
DTSTAMP:20260423T103207
CREATED:20230907T204040Z
LAST-MODIFIED:20230907T204040Z
UID:1415-1687356000-1687377600@www.musikschule-bischof.de
SUMMARY:Fete de la Musique
DESCRIPTION:Schüler der Musikschule Bischof musizieren mit Gästen u.a. Bürgerchor\, Boogieband\, Mary’s Man….in der Neustadt Hoyerswerda.
URL:https://www.musikschule-bischof.de/veranstaltung/fete-de-la-musique/
LOCATION:Musikschule Bischof\, Bautzener Allee 32\, Hoyerserda\, Sachsen\, 02977\, Deutschland
END:VEVENT
BEGIN:VEVENT
DTSTART;TZID=Europe/Berlin:20230613T100000
DTEND;TZID=Europe/Berlin:20230613T120000
DTSTAMP:20260423T103207
CREATED:20230907T211937Z
LAST-MODIFIED:20230907T211937Z
UID:1440-1686650400-1686657600@www.musikschule-bischof.de
SUMMARY:Kulturstunde
DESCRIPTION:Die Schülerband „BBB“ spielt bei der Kulturstunde im Lessinggymnasium.
URL:https://www.musikschule-bischof.de/veranstaltung/kulturstunde-2/
LOCATION:Lessinggymnasium Hoyerswerda\, Pestalozzi Straße 1
END:VEVENT
BEGIN:VEVENT
DTSTART;TZID=Europe/Berlin:20230606T100000
DTEND;TZID=Europe/Berlin:20230606T110000
DTSTAMP:20260423T103207
CREATED:20230907T204742Z
LAST-MODIFIED:20230907T205306Z
UID:1421-1686045600-1686049200@www.musikschule-bischof.de
SUMMARY:Kulturstunde
DESCRIPTION:Die Schülerband „BBB“ spielt bei der Kulturstunde im Lessinggymnasium.
URL:https://www.musikschule-bischof.de/veranstaltung/kulturstunde/
LOCATION:Lessinggymnasium Hoyerswerda\, Pestalozzi Straße 1
END:VEVENT
BEGIN:VEVENT
DTSTART;TZID=Europe/Berlin:20230530T180000
DTEND;TZID=Europe/Berlin:20230530T200000
DTSTAMP:20260423T103207
CREATED:20230907T203603Z
LAST-MODIFIED:20230907T203603Z
UID:1412-1685469600-1685476800@www.musikschule-bischof.de
SUMMARY:Schlesische Musikfeste
DESCRIPTION:Mitwirkung bei den Schlesischen Musikfesten gemeinsam mit Felix Räuber und den Bürgerchor in der alten Synagoge Görlitz.
URL:https://www.musikschule-bischof.de/veranstaltung/schlesische-musikfeste/
END:VEVENT
BEGIN:VEVENT
DTSTART;TZID=Europe/Berlin:20230429T163000
DTEND;TZID=Europe/Berlin:20230429T220000
DTSTAMP:20260423T103207
CREATED:20230309T181721Z
LAST-MODIFIED:20230309T181721Z
UID:1338-1682785800-1682805600@www.musikschule-bischof.de
SUMMARY:30 Jahre  Musik- und Kunstschule Bischof
DESCRIPTION:Cooles Event mit Schülern\, Bands\, Chören und Freunden der Musikschule
URL:https://www.musikschule-bischof.de/veranstaltung/30-jahre-musik-und-kunstschule-bischof/
LOCATION:Kulturfabrik Hoyerswerda e.V.\, Braugasse 1\, Hoyerswerda\, Sachsen\, 02977\, Deutschland
ORGANIZER;CN="Musikschule Bischof":MAILTO:info@musikschule-bischof.de
END:VEVENT
BEGIN:VEVENT
DTSTART;TZID=Europe/Berlin:20221211T160000
DTEND;TZID=Europe/Berlin:20221211T170000
DTSTAMP:20260423T103207
CREATED:20221125T163654Z
LAST-MODIFIED:20221125T163720Z
UID:1323-1670774400-1670778000@www.musikschule-bischof.de
SUMMARY:Weihnachtskonzert
DESCRIPTION:Weihnachtskonzert der Musik- und Kunstschule im Bürgerzentrum (KuFa)
URL:https://www.musikschule-bischof.de/veranstaltung/weihnachtskonzert-3/
LOCATION:Kulturfabrik Hoyerswerda e.V.\, Braugasse 1\, Hoyerswerda\, Sachsen\, 02977\, Deutschland
END:VEVENT
BEGIN:VEVENT
DTSTART;TZID=Europe/Berlin:20221203T160000
DTEND;TZID=Europe/Berlin:20221203T170000
DTSTAMP:20260423T103207
CREATED:20221125T163216Z
LAST-MODIFIED:20221125T163248Z
UID:1317-1670083200-1670086800@www.musikschule-bischof.de
SUMMARY:Weihnachtskonzert
DESCRIPTION:Weihnachtliches Konzert der Musik- und Kunstschule im Lausitzcenter
URL:https://www.musikschule-bischof.de/veranstaltung/weinachtskonzert/
LOCATION:Lausitzcenter
END:VEVENT
BEGIN:VEVENT
DTSTART;TZID=Europe/Berlin:20221001T110000
DTEND;TZID=Europe/Berlin:20221001T121500
DTSTAMP:20260423T103207
CREATED:20220928T195811Z
LAST-MODIFIED:20220928T202920Z
UID:1291-1664622000-1664626500@www.musikschule-bischof.de
SUMMARY:Krabat und das geheimnisvolle Buch
DESCRIPTION:Das Musical für die ganze Familie – mit Tanz\, Schauspiel und Gesang von Andre Bischof\, Elke Förster\, Florian Bischof und Kerstin Zukunft. Mitwirkende: Schauspieler der Musik- und Kunstschule Bischof\, Ballettgruppen der Lausitzhalle e.V.\, Chor der Grundschule „Am Park“
URL:https://www.musikschule-bischof.de/veranstaltung/krabat-und-das-geheimnisvolle-buch/
LOCATION:Lausitzhalle Hoyerswerda\, Lausitzer Pl. 4\, Hoyerswerda\, Sachsen\, 02977\, Deutschland
END:VEVENT
BEGIN:VEVENT
DTSTART;TZID=Europe/Berlin:20220930T081500
DTEND;TZID=Europe/Berlin:20220930T093000
DTSTAMP:20260423T103207
CREATED:20220928T200417Z
LAST-MODIFIED:20220928T202330Z
UID:1296-1664525700-1664530200@www.musikschule-bischof.de
SUMMARY:Krabat und das geheimnisvolle Buch
DESCRIPTION:Das Musical mit Tanz\, Schauspiel und Gesang von Andre Bischof\, Elke Förster\, Florian Bischof und Kerstin Zukunft. Mitwirkende: Schauspieler der Musik- und Kunstschule Bischof\, Ballettgruppen der Lausitzhalle e.V.\, Chor der Grundschule „Am Park“
URL:https://www.musikschule-bischof.de/veranstaltung/krabat-und-das-geheimnisvolle-buch-2/
LOCATION:Lausitzhalle Hoyerswerda\, Lausitzer Pl. 4\, Hoyerswerda\, Sachsen\, 02977\, Deutschland
END:VEVENT
BEGIN:VEVENT
DTSTART;TZID=Europe/Berlin:20220924T100000
DTEND;TZID=Europe/Berlin:20220924T170000
DTSTAMP:20260423T103207
CREATED:20220915T160134Z
LAST-MODIFIED:20220922T165044Z
UID:1283-1664013600-1664038800@www.musikschule-bischof.de
SUMMARY:Tag der offenen Tür
DESCRIPTION:Zum Kennenlernen\, Ausprobieren und Schnuppern öffnen wir unsere Türen von 10.00 bis 17:00 in der Bautzener Allee 83 \nUnsere Schwerpunkte an diesem Tag: -E-Gitarre\, -akustische Gitarre\, Rhythmusinstrumente (DrumKids)\, Schlagzeug\, Max und Mia (4- 6 jährige)\, Klavier\, Keyboard
URL:https://www.musikschule-bischof.de/veranstaltung/tag-der-offenen-tuer-2/
LOCATION:Musikschule Bischof\, Bautzener Allee 32\, Hoyerserda\, Sachsen\, 02977\, Deutschland
END:VEVENT
BEGIN:VEVENT
DTSTART;TZID=Europe/Berlin:20220713T100000
DTEND;TZID=Europe/Berlin:20220713T110000
DTSTAMP:20260423T103207
CREATED:20220711T184134Z
LAST-MODIFIED:20220711T184300Z
UID:1276-1657706400-1657710000@www.musikschule-bischof.de
SUMMARY:Schools Out
DESCRIPTION:„Schools Out For Summer“ – let’s rock!   \nIn den Sommer rocken mit euch: Die „Boogieband“ und Schüler der Musik- und Kunstschule Bischof\, die Bandprojekte „Einfach nur schräg“ (Oberschule Hoyerswerda) und „Crazy Band“ (Lessing-Gymnasium Hoyerswerda).
URL:https://www.musikschule-bischof.de/veranstaltung/schools-out-2/
LOCATION:Lausitzhalle Hoyerswerda\, Lausitzer Pl. 4\, Hoyerswerda\, Sachsen\, 02977\, Deutschland
END:VEVENT
BEGIN:VEVENT
DTSTART;TZID=Europe/Berlin:20220625T170000
DTEND;TZID=Europe/Berlin:20220625T220000
DTSTAMP:20260423T103207
CREATED:20220315T125641Z
LAST-MODIFIED:20220315T125641Z
UID:1272-1656176400-1656194400@www.musikschule-bischof.de
SUMMARY:Bischof's & Freunde -Sommerparty
DESCRIPTION:Wir feiern gemeinsam eine Sommerparty mit vielen Freunden\, viel Spaß und viel Musik! Mit dabei: Schüler der Musikschule Bischof\, Bürgerchor\, Solisten und Bands\, Nachspiel\, Boogieband und weiteren Gästen.
URL:https://www.musikschule-bischof.de/veranstaltung/bischofs-freunde-sommerparty/
LOCATION:Kulturfabrik Hoyerswerda e.V.\, Braugasse 1\, Hoyerswerda\, Sachsen\, 02977\, Deutschland
END:VEVENT
BEGIN:VEVENT
DTSTART;TZID=Europe/Berlin:20220429T180000
DTEND;TZID=Europe/Berlin:20220429T193000
DTSTAMP:20260423T103207
CREATED:20220315T123951Z
LAST-MODIFIED:20220315T123951Z
UID:1263-1651255200-1651260600@www.musikschule-bischof.de
SUMMARY:Junge Künstler
DESCRIPTION:gemeinsames Konzert der Musikschule Hoyerswerda und der Musikschule Bischof anlässlich der 55. Musikfesttage
URL:https://www.musikschule-bischof.de/veranstaltung/junge-kuenstler/
LOCATION:Lausitzhalle Forum-Saal\, Lauitzer Platz\, Hoyerswerda
END:VEVENT
BEGIN:VEVENT
DTSTART;TZID=Europe/Berlin:20211211T160000
DTEND;TZID=Europe/Berlin:20211211T173000
DTSTAMP:20260423T103207
CREATED:20211103T214142Z
LAST-MODIFIED:20211122T075906Z
UID:1172-1639238400-1639243800@www.musikschule-bischof.de
SUMMARY:Weihnachtskonzert-fällt leider aus
DESCRIPTION:Schüler zeigen ihr Können bei einem weihnachtliches Konzert in der KuFa (Saal Bürgerzentrum)
URL:https://www.musikschule-bischof.de/veranstaltung/weihnachtskonzert-2/
LOCATION:Kulturfabrik Hoyerswerda e.V.\, Braugasse 1\, Hoyerswerda\, Sachsen\, 02977\, Deutschland
ORGANIZER;CN="Musikschule Bischof":MAILTO:info@musikschule-bischof.de
END:VEVENT
BEGIN:VEVENT
DTSTART;TZID=Europe/Berlin:20211009T160000
DTEND;TZID=Europe/Berlin:20211009T173000
DTSTAMP:20260423T103207
CREATED:20220315T125054Z
LAST-MODIFIED:20220315T125054Z
UID:1270-1633795200-1633800600@www.musikschule-bischof.de
SUMMARY:Felicitas Kunterbunt -Familienveranstaltung
DESCRIPTION:Schüler der Musik- und Kunstschule Bischof gestalten gemeinsam mit den Ballettgruppen der Lausitzhalle und dem Chor der Grundschule „Am Park“ ein packendes Musical für die ganze Familie.
URL:https://www.musikschule-bischof.de/veranstaltung/felicitas-kunterbunt-familienveranstaltung/
LOCATION:Lausitzhalle Hoyerswerda\, Lausitzer Pl. 4\, Hoyerswerda\, Sachsen\, 02977\, Deutschland
END:VEVENT
END:VCALENDAR